BEGIN:VCALENDAR
VERSION:2.0
PRODID:-//LR Events || DE - ECPv6.6.1//NONSGML v1.0//EN
CALSCALE:GREGORIAN
METHOD:PUBLISH
X-WR-CALNAME:LR Events || DE
X-ORIGINAL-URL:https://www.lrevent.com/de
X-WR-CALDESC:Veranstaltungen für LR Events || DE
REFRESH-INTERVAL;VALUE=DURATION:PT1H
X-Robots-Tag:noindex
X-PUBLISHED-TTL:PT1H
BEGIN:VTIMEZONE
TZID:Europe/Paris
BEGIN:DAYLIGHT
TZOFFSETFROM:+0100
TZOFFSETTO:+0200
TZNAME:CEST
DTSTART:20210328T010000
END:DAYLIGHT
BEGIN:STANDARD
TZOFFSETFROM:+0200
TZOFFSETTO:+0100
TZNAME:CET
DTSTART:20211031T010000
END:STANDARD
END:VTIMEZONE
BEGIN:VEVENT
DTSTART;TZID=Europe/Paris:20210103T140000
DTEND;TZID=Europe/Paris:20210103T170000
DTSTAMP:20260425T014630
CREATED:20201216T104555Z
LAST-MODIFIED:20210305T121840Z
UID:1884-1609682400-1609693200@www.lrevent.com
SUMMARY:Kick-off 2021
DESCRIPTION:Kick-off 2021 ohne Gebärdendolmetscher \n       Kick-off 2021 mit Gebärdendolmetscher \n       Zum Flyer „CashBack“Zum Flyer „Auto VW“Zum Flyer „Auto Mercedes“ \n  \n \n  \n \n  \n \n 
URL:https://www.lrevent.com/de/event/kick-off-2021/
LOCATION:Online
ATTACH;FMTTYPE=image/png:https://www.lrevent.com/de/wp-content/uploads/sites/3/2020/12/LR_Kick-Off_2021_Log-e1607437333865.png
END:VEVENT
END:VCALENDAR