BEGIN:VCALENDAR
VERSION:2.0
PRODID:-//LR Events || DE - ECPv6.6.1//NONSGML v1.0//EN
CALSCALE:GREGORIAN
METHOD:PUBLISH
X-WR-CALNAME:LR Events || DE
X-ORIGINAL-URL:https://www.lrevent.com/de
X-WR-CALDESC:Veranstaltungen für LR Events || DE
REFRESH-INTERVAL;VALUE=DURATION:PT1H
X-Robots-Tag:noindex
X-PUBLISHED-TTL:PT1H
BEGIN:VTIMEZONE
TZID:Europe/Paris
BEGIN:DAYLIGHT
TZOFFSETFROM:+0100
TZOFFSETTO:+0200
TZNAME:CEST
DTSTART:20210328T010000
END:DAYLIGHT
BEGIN:STANDARD
TZOFFSETFROM:+0200
TZOFFSETTO:+0100
TZNAME:CET
DTSTART:20211031T010000
END:STANDARD
END:VTIMEZONE
BEGIN:VEVENT
DTSTART;TZID=Europe/Paris:20210304T201500
DTEND;TZID=Europe/Paris:20210304T223000
DTSTAMP:20260424T231127
CREATED:20210225T114636Z
LAST-MODIFIED:20210305T121805Z
UID:1994-1614888900-1614897000@www.lrevent.com
SUMMARY:Webinar: Erfolgstipps März 2021
DESCRIPTION:Zum SonderbestellformularLiebe Partner\, liebe Führungskräfte\,\nMore Power\, more Quality: Wir von LR bieten Ihnen die Chance\, mehr für Ihr Leben zu schaffen und das Beste aus Ihnen herauszuholen. Deswegen begrüßen Sie am 04.03.2021 Burkhard Meffert und Gerrit Knein zu einer ganz besonders motivierenden Ausgabe unserer Webinar-Offensive! Und so viel sei schon verraten: Es wird emotional\, energiegeladen und absolut überzeugend \nSchalte also unbedingt ein: Das Webinar ist hier ab 20:15 Uhr verfügbar. \nEuer Vertriebsteam Deutschland \nSeite neu laden \n  \n \n  \n \n  \n \n 
URL:https://www.lrevent.com/de/event/webinar-erfolgstipps-maerz-2021/
LOCATION:Online
ATTACH;FMTTYPE=image/png:https://www.lrevent.com/de/wp-content/uploads/sites/3/2021/01/Webinar-Offensive-Logo_520x428-e1616684077214.png
END:VEVENT
END:VCALENDAR